BEGIN:VCALENDAR
VERSION:2.0
PRODID:DPCALENDAR
CALSCALE:GREGORIAN
BEGIN:VTIMEZONE
TZID:Europe/Berlin
X-MICROSOFT-CDO-TZID:4
BEGIN:STANDARD
DTSTART:20251026T010000
TZOFFSETFROM:+0200
TZOFFSETTO:+0100
TZNAME:CET
END:STANDARD
BEGIN:STANDARD
DTSTART:20261025T010000
TZOFFSETFROM:+0200
TZOFFSETTO:+0100
TZNAME:CET
END:STANDARD
BEGIN:DAYLIGHT
DTSTART:20260329T010000
TZOFFSETFROM:+0100
TZOFFSETTO:+0200
TZNAME:CEST
END:DAYLIGHT
END:VTIMEZONE
X-WR-TIMEZONE:Europe/Berlin
BEGIN:VEVENT
DTSTART;TZID=Europe/Berlin:20201012T070000
DTEND;TZID=Europe/Berlin:20201016T080000
UID:AB4FBD80-4B86-4DBB-991E-4081A4537322
SUMMARY:Herbstferien 2020 (geöffnet)
CREATED:20200927T052332Z
DTSTAMP:20200927T052332Z
URL:https://www.aplerbecker-mark-gs.de/index.php/termine/herbstferien-2020-geoeffnet
DESCRIPTION:An diesen Tagen ist die OGS geöffnet. Für eine Anmaldung Ihres Kindes nehmen Sie bitte Kontakt zur Leitung der OGS auf
X-ALT-DESC;FMTTYPE=text/html:<p>An diesen Tagen ist die OGS geöffnet. Für eine Anmaldung Ihres Kindes nehmen Sie bitte Kontakt zur Leitung der OGS auf</p>
LAST-MODIFIED:20200927T054122Z
SEQUENCE:1070
X-ACCESS:1
X-HITS:0
X-COLOR:99ee99
X-SHOW-END-TIME:1
END:VEVENT
BEGIN:VEVENT
DTSTART;VALUE=DATE:20230828
DTEND;VALUE=DATE:20230829
UID:8BA92041-6141-418B-8E19-01BB336CBFE7
SUMMARY:Pädag. Ganztagskonferenz (OGS geöffnet)
CREATED:20230809T200036Z
DTSTAMP:20230809T200036Z
URL:https://www.aplerbecker-mark-gs.de/index.php/termine/paedag-ganztagskonferenz-ogs-geoeffnet
X-ACCESS:1
X-HITS:0
X-COLOR:99ee99
X-SHOW-END-TIME:1
END:VEVENT
BEGIN:VEVENT
DTSTART;VALUE=DATE:20231002
DTEND;VALUE=DATE:20231003
UID:219A0003-13A5-42D6-8535-1BF603EF75A8
SUMMARY:Herbstferien (OGS geöffnet) 
CREATED:20230802T163851Z
DTSTAMP:20230802T163851Z
URL:https://www.aplerbecker-mark-gs.de/index.php/termine/herbstferien-ogs-geoeffnet
X-ACCESS:1
X-HITS:0
X-COLOR:99ee99
X-SHOW-END-TIME:1
END:VEVENT
BEGIN:VEVENT
DTSTART;VALUE=DATE:20231004
DTEND;VALUE=DATE:20231007
UID:9D695299-77B2-4C76-B7B9-F3B191B49EDE
SUMMARY:Herbstferien (OGS geöffnet) 
CREATED:20230802T163949Z
DTSTAMP:20230802T163949Z
URL:https://www.aplerbecker-mark-gs.de/index.php/termine/herbstferien-ogs-geoeffnet-2
LAST-MODIFIED:20230802T164545Z
SEQUENCE:356
X-ACCESS:1
X-HITS:0
X-COLOR:99ee99
X-SHOW-END-TIME:1
END:VEVENT
BEGIN:VEVENT
DTSTART;VALUE=DATE:20231009
DTEND;VALUE=DATE:20231014
UID:0A294EBB-C8C9-4705-BE33-98F7B8534845
SUMMARY:Herbstferien (OGS geschlossen)
CREATED:20230802T164052Z
DTSTAMP:20230802T164052Z
URL:https://www.aplerbecker-mark-gs.de/index.php/termine/herbstferien-ogs-geschlossen
LAST-MODIFIED:20230802T194944Z
SEQUENCE:11332
X-ACCESS:1
X-HITS:0
X-COLOR:cc2222
X-SHOW-END-TIME:1
END:VEVENT
BEGIN:VEVENT
DTSTART;VALUE=DATE:20231120
DTEND;VALUE=DATE:20231121
UID:E53AB82E-203F-42C8-A403-C294CF45FC83
SUMMARY:Pädag. Ganztagskonferenz (OGS geöffnet)
CREATED:20230809T200036Z
DTSTAMP:20230809T200036Z
URL:https://www.aplerbecker-mark-gs.de/index.php/termine/paedag-ganztagskonferenz-ogs-geoeffnet-2
LAST-MODIFIED:20230816T152640Z
SEQUENCE:588364
X-ACCESS:1
X-HITS:0
X-COLOR:99ee99
X-SHOW-END-TIME:1
END:VEVENT
BEGIN:VEVENT
DTSTART;VALUE=DATE:20231221
DTEND;VALUE=DATE:20240106
UID:6C09BECE-0E38-4546-A631-8319CAC8BD8B
SUMMARY:Weihnachtsferien (OGS geschlossen)
CREATED:20230802T194542Z
DTSTAMP:20230802T194542Z
URL:https://www.aplerbecker-mark-gs.de/index.php/termine/weihnachtsferien-ogs-geschlossen
X-ACCESS:1
X-HITS:0
X-COLOR:cc2222
X-SHOW-END-TIME:1
END:VEVENT
BEGIN:VEVENT
DTSTART;VALUE=DATE:20240212
DTEND;VALUE=DATE:20240213
UID:306357EF-15DB-4E6D-B329-3DC642CABC67
SUMMARY:Rosenmontag (OGS geschlossen)
CREATED:20230802T194817Z
DTSTAMP:20230802T194817Z
URL:https://www.aplerbecker-mark-gs.de/index.php/termine/rosenmontag-ogs-geschlossen
LAST-MODIFIED:20230802T195331Z
SEQUENCE:314
X-ACCESS:1
X-HITS:0
X-COLOR:cc2222
X-SHOW-END-TIME:1
END:VEVENT
BEGIN:VEVENT
DTSTART;VALUE=DATE:20240213
DTEND;VALUE=DATE:20240214
UID:C3AFAF02-CCEE-4460-942B-CE3FEBFFEF2E
SUMMARY:Veilchendienstag (OGS geöffnet)
CREATED:20230802T194921Z
DTSTAMP:20230802T194921Z
URL:https://www.aplerbecker-mark-gs.de/index.php/termine/veilchendienstag-ogs-geoeffnet
X-ACCESS:1
X-HITS:0
X-COLOR:99ee99
X-SHOW-END-TIME:1
END:VEVENT
BEGIN:VEVENT
DTSTART;VALUE=DATE:20240325
DTEND;VALUE=DATE:20240330
UID:0BE0212F-FAFA-4BD0-BA34-740A161CBB89
SUMMARY:Osterferien (OGS geschlossen)
CREATED:20230728T165551Z
DTSTAMP:20230728T165551Z
URL:https://www.aplerbecker-mark-gs.de/index.php/termine/osterferien-geschlossen
LAST-MODIFIED:20230728T181551Z
SEQUENCE:4800
X-ACCESS:1
X-HITS:0
X-COLOR:cc2222
X-SHOW-END-TIME:1
END:VEVENT
BEGIN:VEVENT
DTSTART;VALUE=DATE:20240402
DTEND;VALUE=DATE:20240406
UID:4E860C33-FAC3-4EA9-B98D-C85646A71116
SUMMARY:Osterferien (OGS geöffnet)
CREATED:20230728T165637Z
DTSTAMP:20230728T165637Z
URL:https://www.aplerbecker-mark-gs.de/index.php/termine/osterferien-geoeffnet
LAST-MODIFIED:20230728T181607Z
SEQUENCE:4770
X-ACCESS:1
X-HITS:0
X-COLOR:99ee99
X-SHOW-END-TIME:1
END:VEVENT
BEGIN:VEVENT
DTSTART;VALUE=DATE:20240424
DTEND;VALUE=DATE:20240425
UID:8E1D237D-43E1-431F-A6F8-6FC37E69D5A0
SUMMARY:Pädag. Ganztagskonferenz (OGS geöffnet)
CREATED:20230809T200036Z
DTSTAMP:20230809T200036Z
URL:https://www.aplerbecker-mark-gs.de/index.php/termine/paedag-ganztagskonferenz-ogs-geoeffnet-3
LAST-MODIFIED:20240113T061727Z
SEQUENCE:13515411
X-ACCESS:1
X-HITS:0
X-COLOR:99ee99
X-SHOW-END-TIME:1
END:VEVENT
BEGIN:VEVENT
DTSTART;VALUE=DATE:20240510
DTEND;VALUE=DATE:20240511
UID:8682E41F-8C89-4AEA-98CB-0E1376BFE36A
SUMMARY:Brückentag Christi Himmelfahrt (OGS geöffnet)
CREATED:20230802T195057Z
DTSTAMP:20230802T195057Z
URL:https://www.aplerbecker-mark-gs.de/index.php/termine/brueckentag-christi-himmelfahrt-ogs-geoeffnet
X-ACCESS:1
X-HITS:0
X-COLOR:99ee99
X-SHOW-END-TIME:1
END:VEVENT
BEGIN:VEVENT
DTSTART;VALUE=DATE:20240521
DTEND;VALUE=DATE:20240522
UID:A6921673-01D6-462D-82EA-987F72AC177E
SUMMARY:Pfingstdienstag (OGS geöffnet)
CREATED:20230802T195149Z
DTSTAMP:20230802T195149Z
URL:https://www.aplerbecker-mark-gs.de/index.php/termine/pfingstdienstag-ogs-geoeffnet
LAST-MODIFIED:20240517T195434Z
SEQUENCE:24969765
X-ACCESS:1
X-HITS:0
X-COLOR:99ee99
X-SHOW-END-TIME:1
END:VEVENT
BEGIN:VEVENT
DTSTART;VALUE=DATE:20240531
DTEND;VALUE=DATE:20240601
UID:BE016B42-4721-4D0A-8854-429DC2890A33
SUMMARY:Brückentag nach Fronleichnam (OGS geschlossen)
CREATED:20230802T195241Z
DTSTAMP:20230802T195241Z
URL:https://www.aplerbecker-mark-gs.de/index.php/termine/brueckentag-nach-fronleichnam-ogs-geschlossen
LAST-MODIFIED:20230802T195526Z
SEQUENCE:165
X-ACCESS:1
X-HITS:0
X-COLOR:cc2222
X-SHOW-END-TIME:1
END:VEVENT
BEGIN:VEVENT
DTSTART;VALUE=DATE:20240708
DTEND;VALUE=DATE:20240727
UID:7B23AE67-C137-4B0E-A6D8-373BFA730D59
SUMMARY:Sommerferien (OGS geöffnet)
CREATED:20230728T180704Z
DTSTAMP:20230728T180704Z
URL:https://www.aplerbecker-mark-gs.de/index.php/termine/sommerferien-geoeffnet
LAST-MODIFIED:20230728T181620Z
SEQUENCE:556
X-ACCESS:1
X-HITS:0
X-COLOR:99ee99
X-SHOW-END-TIME:1
END:VEVENT
BEGIN:VEVENT
DTSTART;VALUE=DATE:20240729
DTEND;VALUE=DATE:20240821
UID:1B5D2635-C206-42F5-ABAC-B3AE6485F16B
SUMMARY:Sommerferien (OGS geschlossen)
CREATED:20230728T180852Z
DTSTAMP:20230728T180852Z
URL:https://www.aplerbecker-mark-gs.de/index.php/termine/sommerferien-geschlossen
LAST-MODIFIED:20230728T181704Z
SEQUENCE:492
X-ACCESS:1
X-HITS:0
X-COLOR:cc2222
X-SHOW-END-TIME:1
END:VEVENT
BEGIN:VEVENT
DTSTART;VALUE=DATE:20241014
DTEND;VALUE=DATE:20241019
UID:84761AA5-21EE-4D2C-89A5-39D3D296EE73
SUMMARY:Herbstferien (OGS geschlossen)
CREATED:20230728T181022Z
DTSTAMP:20230728T181022Z
URL:https://www.aplerbecker-mark-gs.de/index.php/termine/herbstferien-geschlossen
LAST-MODIFIED:20230728T181729Z
SEQUENCE:427
X-ACCESS:1
X-HITS:0
X-COLOR:cc2222
X-SHOW-END-TIME:1
END:VEVENT
BEGIN:VEVENT
DTSTART;VALUE=DATE:20241021
DTEND;VALUE=DATE:20241026
UID:64CD818A-7932-4B23-B49B-72A631F19F02
SUMMARY:Herbstferien (OGS geöffnet)
CREATED:20230728T181344Z
DTSTAMP:20230728T181344Z
URL:https://www.aplerbecker-mark-gs.de/index.php/termine/herbstferien-geoeffnet
LAST-MODIFIED:20230728T181743Z
SEQUENCE:239
X-ACCESS:1
X-HITS:0
X-COLOR:99ee99
X-SHOW-END-TIME:1
END:VEVENT
BEGIN:VEVENT
DTSTART;VALUE=DATE:20241223
DTEND;VALUE=DATE:20250107
UID:66CE04F2-04F0-4BDC-8EFD-47B0ECCFE527
SUMMARY:Weihnachtsferien (OGS geschlossen)
CREATED:20230802T194645Z
DTSTAMP:20230802T194645Z
URL:https://www.aplerbecker-mark-gs.de/index.php/termine/weihnachtsferien-ogs-geschlossen-2
X-ACCESS:1
X-HITS:0
X-COLOR:cc2222
X-SHOW-END-TIME:1
END:VEVENT
BEGIN:VEVENT
DTSTART;VALUE=DATE:20250303
DTEND;VALUE=DATE:20250304
UID:15B26B92-8674-4343-996F-7D27CC6951BE
SUMMARY:Rosenmontag (OGS geschlossen)
CREATED:20250120T194739Z
DTSTAMP:20250120T194739Z
URL:https://www.aplerbecker-mark-gs.de/index.php/termine/rosenmontag-ogs-geschlossen-2
LAST-MODIFIED:20250120T194739Z
SEQUENCE:0
X-ACCESS:1
X-HITS:0
X-COLOR:cc2222
X-SHOW-END-TIME:1
END:VEVENT
BEGIN:VEVENT
DTSTART;VALUE=DATE:20250304
DTEND;VALUE=DATE:20250305
UID:B3922BC7-D9CE-4E6A-9B8E-AAC5659256F4
SUMMARY:Veilchendienstag (Bew. Ferientag -OGS geöffnet)
CREATED:20250120T194850Z
DTSTAMP:20250120T194850Z
URL:https://www.aplerbecker-mark-gs.de/index.php/termine/veilchendienstag-bew-ferientag-ogs-geoeffnet
LAST-MODIFIED:20250120T194850Z
SEQUENCE:0
X-ACCESS:1
X-HITS:0
X-COLOR:99ee99
X-SHOW-END-TIME:1
END:VEVENT
BEGIN:VEVENT
DTSTART;VALUE=DATE:20250414
DTEND;VALUE=DATE:20250419
UID:F759E059-4D68-4E09-9128-5977128C1EF8
SUMMARY:Osterferien (geschlossen)
CREATED:20250120T193214Z
DTSTAMP:20250120T193214Z
URL:https://www.aplerbecker-mark-gs.de/index.php/termine/osterferien-geschlossen-2
LAST-MODIFIED:20250120T193214Z
SEQUENCE:0
X-ACCESS:1
X-HITS:0
X-COLOR:cc2222
X-SHOW-END-TIME:0
END:VEVENT
BEGIN:VEVENT
DTSTART;VALUE=DATE:20250422
DTEND;VALUE=DATE:20250426
UID:862719BE-D07F-4A4F-B1A9-B30A32FC41D3
SUMMARY:Osterferien geöffnet
CREATED:20250120T192954Z
DTSTAMP:20250120T192954Z
URL:https://www.aplerbecker-mark-gs.de/index.php/termine/osterferien-geoeffnet-2
LAST-MODIFIED:20250120T194530Z
SEQUENCE:936
X-ACCESS:1
X-HITS:0
X-COLOR:99ee99
X-SHOW-END-TIME:1
END:VEVENT
BEGIN:VEVENT
DTSTART;VALUE=DATE:20250530
DTEND;VALUE=DATE:20250531
UID:91554CC9-32EF-45F8-852E-FC3D9CE3F656
SUMMARY:Beweglicher Ferientag (OGS geöffnet)
CREATED:20250120T195858Z
DTSTAMP:20250120T195858Z
URL:https://www.aplerbecker-mark-gs.de/index.php/termine/beweglicher-ferientag-ogs-geoeffnet
DESCRIPTION:Keine Betreuung in der Zusatzbetreuung.
X-ALT-DESC;FMTTYPE=text/html:<p>Keine Betreuung in der Zusatzbetreuung.</p>
LAST-MODIFIED:20250120T200707Z
SEQUENCE:489
X-ACCESS:1
X-HITS:0
X-COLOR:99ee99
X-SHOW-END-TIME:1
END:VEVENT
BEGIN:VEVENT
DTSTART;VALUE=DATE:20250609
DTEND;VALUE=DATE:20250610
UID:E83265A2-6BF5-4213-BA5A-BA15D7524AE0
SUMMARY:Pfingstmontag (Ferientag - geschlossen)
CREATED:20250120T193444Z
DTSTAMP:20250120T193444Z
URL:https://www.aplerbecker-mark-gs.de/index.php/termine/pfingstmontag-ferientag-geschlossen
LAST-MODIFIED:20250120T193444Z
SEQUENCE:0
X-ACCESS:1
X-HITS:0
X-COLOR:cc2222
X-SHOW-END-TIME:1
END:VEVENT
BEGIN:VEVENT
DTSTART;VALUE=DATE:20250610
DTEND;VALUE=DATE:20250611
UID:BC26E84F-7C8A-4BF5-BAC9-25DCC7080C35
SUMMARY:Pfingstdienstag (Ferientag NRW)
CREATED:20250120T193338Z
DTSTAMP:20250120T193338Z
URL:https://www.aplerbecker-mark-gs.de/index.php/termine/pfingstmontag-feiertag
LAST-MODIFIED:20250120T193615Z
SEQUENCE:157
X-ACCESS:1
X-HITS:0
X-COLOR:99ee99
X-SHOW-END-TIME:1
END:VEVENT
BEGIN:VEVENT
DTSTART;VALUE=DATE:20250620
DTEND;VALUE=DATE:20250621
UID:DD43E0C6-3839-46AE-8F6E-38E6BDB5363D
SUMMARY:Beweglicher Ferientag (OGS geöffnet)
CREATED:20250120T200137Z
DTSTAMP:20250120T200137Z
URL:https://www.aplerbecker-mark-gs.de/index.php/termine/beweglicher-ferientag-ogs-geoeffnet-2
DESCRIPTION:Keine Betreuung in der Zusatzbetreuung.
X-ALT-DESC;FMTTYPE=text/html:<p>Keine Betreuung in der Zusatzbetreuung.</p>
LAST-MODIFIED:20250120T200137Z
SEQUENCE:0
X-ACCESS:1
X-HITS:0
X-COLOR:99ee99
X-SHOW-END-TIME:1
END:VEVENT
BEGIN:VEVENT
DTSTART;VALUE=DATE:20250714
DTEND;VALUE=DATE:20250802
UID:AC65D102-9ABB-4288-862C-2C9DB95C1B31
SUMMARY:Sommerferien (geschlossen)
CREATED:20250120T193744Z
DTSTAMP:20250120T193744Z
URL:https://www.aplerbecker-mark-gs.de/index.php/termine/sommerferien-geschlossen-2
LAST-MODIFIED:20250120T193744Z
SEQUENCE:0
X-ACCESS:1
X-HITS:0
X-COLOR:cc2222
X-SHOW-END-TIME:1
END:VEVENT
BEGIN:VEVENT
DTSTART;VALUE=DATE:20250804
DTEND;VALUE=DATE:20250823
UID:5ADB7BEE-1A64-4A1C-A409-CE53BB5E9A9F
SUMMARY:Sommerferien (OGS geöffnet)
CREATED:20250120T193921Z
DTSTAMP:20250120T193921Z
URL:https://www.aplerbecker-mark-gs.de/index.php/termine/sommerferien-geoeffnet-2
LAST-MODIFIED:20250715T091259Z
SEQUENCE:15168818
X-ACCESS:1
X-HITS:0
X-COLOR:99ee99
X-SHOW-END-TIME:1
END:VEVENT
BEGIN:VEVENT
DTSTART;VALUE=DATE:20250825
DTEND;VALUE=DATE:20250827
UID:7542E46B-8308-4B5B-A322-50F555A158CA
SUMMARY:Konzeptionstage (OGS geschlossen)
CREATED:20250120T194025Z
DTSTAMP:20250120T194025Z
URL:https://www.aplerbecker-mark-gs.de/index.php/termine/konzeptionstage-geschlossen
LAST-MODIFIED:20250715T091315Z
SEQUENCE:15168770
X-ACCESS:1
X-HITS:0
X-COLOR:cc2222
X-SHOW-END-TIME:1
END:VEVENT
BEGIN:VEVENT
DTSTART;VALUE=DATE:20251013
DTEND;VALUE=DATE:20251018
UID:FD07BE3B-624C-4CE8-B3AA-3183EAB1A55B
SUMMARY:Herbstferien (OGS geschlossen)
CREATED:20250120T194121Z
DTSTAMP:20250120T194121Z
URL:https://www.aplerbecker-mark-gs.de/index.php/termine/herbstferien-geschlossen-2
LAST-MODIFIED:20250715T091330Z
SEQUENCE:15168729
X-ACCESS:1
X-HITS:0
X-COLOR:cc2222
X-SHOW-END-TIME:1
END:VEVENT
BEGIN:VEVENT
DTSTART;VALUE=DATE:20251020
DTEND;VALUE=DATE:20251025
UID:3037683B-5F53-4E0D-94FA-3847510AC4EC
SUMMARY:Herbstferien (OGS geöffnet)
CREATED:20250120T194241Z
DTSTAMP:20250120T194241Z
URL:https://www.aplerbecker-mark-gs.de/index.php/termine/herbstferien-geoeffnet-2
LAST-MODIFIED:20250715T091344Z
SEQUENCE:15168663
X-ACCESS:1
X-HITS:0
X-COLOR:99ee99
X-SHOW-END-TIME:1
END:VEVENT
BEGIN:VEVENT
DTSTART;VALUE=DATE:20260406
DTEND;VALUE=DATE:20260411
UID:A2A03751-2D50-41CA-8DA5-83D3F7455284
SUMMARY:OGS geschlossen
CREATED:20260128T150434Z
DTSTAMP:20260128T150434Z
URL:https://www.aplerbecker-mark-gs.de/index.php/termine/ogs-geschlossen-3
LAST-MODIFIED:20260128T150434Z
SEQUENCE:0
X-ACCESS:1
X-HITS:0
X-COLOR:99ee99
X-SHOW-END-TIME:0
END:VEVENT
BEGIN:VEVENT
DTSTART;VALUE=DATE:20260526
DTEND;VALUE=DATE:20260527
UID:0C8A70B1-E83F-4791-BF9C-275D63744D65
SUMMARY:OGS geschlossen
CREATED:20260128T150113Z
DTSTAMP:20260128T150113Z
URL:https://www.aplerbecker-mark-gs.de/index.php/termine/ogs-geschlossen-2
LAST-MODIFIED:20260128T150330Z
SEQUENCE:137
X-ACCESS:1
X-HITS:0
X-COLOR:99ee99
X-SHOW-END-TIME:0
END:VEVENT
BEGIN:VEVENT
DTSTART;VALUE=DATE:20260810
DTEND;VALUE=DATE:20260902
UID:52279AFE-D17A-4390-BE58-29B9CF06B9F5
SUMMARY:OGS geschlossen
CREATED:20260128T150509Z
DTSTAMP:20260128T150509Z
URL:https://www.aplerbecker-mark-gs.de/index.php/termine/ogs-geschlossen-4
LAST-MODIFIED:20260128T150509Z
SEQUENCE:0
X-ACCESS:1
X-HITS:0
X-COLOR:99ee99
X-SHOW-END-TIME:0
END:VEVENT
BEGIN:VEVENT
DTSTART;VALUE=DATE:20261019
DTEND;VALUE=DATE:20261024
UID:1CF2E3A7-FF36-431A-BD02-5CF2534EF68B
SUMMARY:OGS geschlossen
CREATED:20260128T150532Z
DTSTAMP:20260128T150532Z
URL:https://www.aplerbecker-mark-gs.de/index.php/termine/ogs-geschlossen-5
LAST-MODIFIED:20260128T150532Z
SEQUENCE:0
X-ACCESS:1
X-HITS:0
X-COLOR:99ee99
X-SHOW-END-TIME:0
END:VEVENT
END:VCALENDAR